Package: HelloRanges Version: 1.35.2 Command: /Library/Frameworks/R.framework/Resources/bin/R CMD build --keep-empty-dirs --no-resave-data HelloRanges StartedAt: 2025-10-24 17:23:14 -0400 (Fri, 24 Oct 2025) EndedAt: 2025-10-24 17:27:51 -0400 (Fri, 24 Oct 2025) EllapsedTime: 277.2 seconds RetCode: 0 Status: OK PackageFile: HelloRanges_1.35.2.tar.gz PackageFileSize: 949.9 KiB