Package: HelloRanges Version: 1.35.2 Command: rm -rf HelloRanges.buildbin-libdir && mkdir HelloRanges.buildbin-libdir && /Users/biocbuild/BBS/utils/build-universal.sh HelloRanges_1.35.2.tar.gz /Library/Frameworks/R.framework/Resources/bin/R HelloRanges.buildbin-libdir StartedAt: 2025-10-25 01:44:15 -0400 (Sat, 25 Oct 2025) EndedAt: 2025-10-25 01:45:16 -0400 (Sat, 25 Oct 2025) EllapsedTime: 60.3 seconds RetCode: 0 Status: OK PackageFile: HelloRanges_1.35.2.tgz PackageFileSize: 965.7 KiB