Package: Heatplus Version: 3.18.0 Command: /home/biocbuild/bbs-3.22-bioc/R/bin/R CMD build --keep-empty-dirs --no-resave-data --md5 Heatplus StartedAt: 2025-11-16 18:11:31 -0500 (Sun, 16 Nov 2025) EndedAt: 2025-11-16 18:11:48 -0500 (Sun, 16 Nov 2025) EllapsedTime: 17.0 seconds RetCode: 0 Status: OK PackageFile: Heatplus_3.18.0.tar.gz PackageFileSize: 1.184 MiB