Package: Harshlight Version: 1.81.1 Command: /Library/Frameworks/R.framework/Resources/bin/R CMD build --keep-empty-dirs --no-resave-data Harshlight StartedAt: 2025-10-24 16:41:41 -0400 (Fri, 24 Oct 2025) EndedAt: 2025-10-24 16:41:42 -0400 (Fri, 24 Oct 2025) EllapsedTime: 1.0 seconds RetCode: 1 Status: ERROR PackageFile: None PackageFileSize: NA