Package: HarmonizR Version: 1.7.0 Command: /home/biocbuild/bbs-3.22-bioc/R/bin/R CMD INSTALL HarmonizR StartedAt: 2025-10-24 15:41:54 -0400 (Fri, 24 Oct 2025) EndedAt: 2025-10-24 15:41:56 -0400 (Fri, 24 Oct 2025) EllapsedTime: 2.3 seconds RetCode: 0 Status: OK