Package: Harman Version: 1.37.0 Command: /home/biocbuild/bbs-3.22-bioc/R/bin/R CMD build --keep-empty-dirs --no-resave-data --md5 Harman StartedAt: 2025-10-24 18:12:36 -0400 (Fri, 24 Oct 2025) EndedAt: 2025-10-24 18:15:18 -0400 (Fri, 24 Oct 2025) EllapsedTime: 161.2 seconds RetCode: 0 Status: OK PackageFile: Harman_1.37.0.tar.gz PackageFileSize: 2.232 MiB