Package: HTqPCR Version: 1.63.0 Command: /home/biocbuild/bbs-3.22-bioc/R/bin/R CMD build --keep-empty-dirs --no-resave-data --md5 HTqPCR StartedAt: 2025-10-24 18:19:02 -0400 (Fri, 24 Oct 2025) EndedAt: 2025-10-24 18:19:20 -0400 (Fri, 24 Oct 2025) EllapsedTime: 18.0 seconds RetCode: 0 Status: OK PackageFile: HTqPCR_1.63.0.tar.gz PackageFileSize: 2.583 MiB