Package: HTqPCR Version: 1.63.0 Command: /Library/Frameworks/R.framework/Resources/bin/R CMD INSTALL HTqPCR StartedAt: 2025-10-24 15:24:08 -0400 (Fri, 24 Oct 2025) EndedAt: 2025-10-24 15:24:21 -0400 (Fri, 24 Oct 2025) EllapsedTime: 13.8 seconds RetCode: 0 Status: OK