Package: HTqPCR Version: 1.63.0 Command: rm -rf HTqPCR.buildbin-libdir && mkdir HTqPCR.buildbin-libdir && /Users/biocbuild/BBS/utils/build-universal.sh HTqPCR_1.63.0.tar.gz /Library/Frameworks/R.framework/Resources/bin/R HTqPCR.buildbin-libdir StartedAt: 2025-10-24 23:06:16 -0400 (Fri, 24 Oct 2025) EndedAt: 2025-10-24 23:06:19 -0400 (Fri, 24 Oct 2025) EllapsedTime: 3.1 seconds RetCode: 0 Status: OK PackageFile: HTqPCR_1.63.0.tgz PackageFileSize: 2.463 MiB