Package: HPiP Version: 1.16.0 Command: /home/biocbuild/bbs-3.22-bioc/R/bin/R CMD INSTALL HPiP StartedAt: 2025-11-03 15:09:42 -0500 (Mon, 03 Nov 2025) EndedAt: 2025-11-03 15:09:56 -0500 (Mon, 03 Nov 2025) EllapsedTime: 14.8 seconds RetCode: 0 Status: OK