Package: HPiP Version: 1.16.0 Command: /home/biocbuild/bbs-3.22-bioc/R/bin/R CMD build --keep-empty-dirs --no-resave-data --md5 HPiP StartedAt: 2025-11-03 18:11:11 -0500 (Mon, 03 Nov 2025) EndedAt: 2025-11-03 18:20:40 -0500 (Mon, 03 Nov 2025) EllapsedTime: 569.6 seconds RetCode: 1 Status: ERROR PackageFile: None PackageFileSize: NA