Package: HPAanalyze Version: 1.28.0 Command: /home/biocbuild/bbs-3.22-bioc/R/bin/R CMD INSTALL HPAanalyze StartedAt: 2025-11-02 15:15:27 -0500 (Sun, 02 Nov 2025) EndedAt: 2025-11-02 15:15:45 -0500 (Sun, 02 Nov 2025) EllapsedTime: 18.2 seconds RetCode: 0 Status: OK