Package: HEM Version: 1.81.0 Command: /home/biocbuild/bbs-3.22-bioc/R/bin/R CMD INSTALL HEM StartedAt: 2025-10-27 15:14:58 -0400 (Mon, 27 Oct 2025) EndedAt: 2025-10-27 15:15:03 -0400 (Mon, 27 Oct 2025) EllapsedTime: 5.2 seconds RetCode: 0 Status: OK