Package: HELP Version: 1.68.0 Command: rm -rf HELP.buildbin-libdir && mkdir HELP.buildbin-libdir && /Users/biocbuild/BBS/utils/build-universal.sh HELP_1.68.0.tar.gz /Library/Frameworks/R.framework/Resources/bin/R HELP.buildbin-libdir StartedAt: 2025-11-01 01:38:12 -0400 (Sat, 01 Nov 2025) EndedAt: 2025-11-01 01:38:22 -0400 (Sat, 01 Nov 2025) EllapsedTime: 9.2 seconds RetCode: 0 Status: OK PackageFile: HELP_1.68.0.tgz PackageFileSize: 1.118 MiB