Package: HELP Version: 1.67.0 Command: /Library/Frameworks/R.framework/Resources/bin/R CMD build --keep-empty-dirs --no-resave-data HELP StartedAt: 2025-10-24 16:42:18 -0400 (Fri, 24 Oct 2025) EndedAt: 2025-10-24 16:42:25 -0400 (Fri, 24 Oct 2025) EllapsedTime: 7.1 seconds RetCode: 0 Status: OK PackageFile: HELP_1.67.0.tar.gz PackageFileSize: 999 KiB