Package: HELP Version: 1.67.0 Command: rm -rf HELP.buildbin-libdir && mkdir HELP.buildbin-libdir && /Users/biocbuild/BBS/utils/build-universal.sh HELP_1.67.0.tar.gz /Library/Frameworks/R.framework/Resources/bin/R HELP.buildbin-libdir StartedAt: 2025-10-24 23:05:51 -0400 (Fri, 24 Oct 2025) EndedAt: 2025-10-24 23:05:53 -0400 (Fri, 24 Oct 2025) EllapsedTime: 2.1 seconds RetCode: 0 Status: OK PackageFile: HELP_1.67.0.tgz PackageFileSize: 1.12 MiB