Package: HDTD Version: 1.44.0 Command: /home/biocbuild/bbs-3.22-bioc/R/bin/R CMD INSTALL HDTD StartedAt: 2025-10-31 15:14:16 -0400 (Fri, 31 Oct 2025) EndedAt: 2025-10-31 15:14:57 -0400 (Fri, 31 Oct 2025) EllapsedTime: 41.5 seconds RetCode: 0 Status: OK