Package: HDTD Version: 1.44.0 Command: /home/biocbuild/bbs-3.22-bioc/R/bin/R CMD build --keep-empty-dirs --no-resave-data --md5 HDTD StartedAt: 2025-10-31 18:13:49 -0400 (Fri, 31 Oct 2025) EndedAt: 2025-10-31 18:14:16 -0400 (Fri, 31 Oct 2025) EllapsedTime: 27.0 seconds RetCode: 0 Status: OK PackageFile: HDTD_1.44.0.tar.gz PackageFileSize: 164.3 KiB