Package: HDF5Array Version: 1.37.0 Command: /home/biocbuild/R/R/bin/R CMD INSTALL HDF5Array StartedAt: 2025-10-23 20:35:14 -0000 (Thu, 23 Oct 2025) EndedAt: 2025-10-23 20:35:42 -0000 (Thu, 23 Oct 2025) EllapsedTime: 28.3 seconds RetCode: 0 Status: OK