Package: HDF5Array Version: 1.37.0 Command: /home/biocbuild/R/R/bin/R CMD build --keep-empty-dirs --no-resave-data HDF5Array StartedAt: 2025-10-21 00:26:06 -0000 (Tue, 21 Oct 2025) EndedAt: 2025-10-21 00:27:09 -0000 (Tue, 21 Oct 2025) EllapsedTime: 63.1 seconds RetCode: 1 Status: ERROR PackageFile: None PackageFileSize: NA