Package: HDF5Array Version: 1.37.0 Command: /home/biocbuild/bbs-3.22-bioc/R/bin/R CMD INSTALL HDF5Array StartedAt: 2025-10-24 15:45:36 -0400 (Fri, 24 Oct 2025) EndedAt: 2025-10-24 15:45:58 -0400 (Fri, 24 Oct 2025) EllapsedTime: 21.4 seconds RetCode: 0 Status: OK