Package: HDF5Array Version: 1.37.0 Command: /Library/Frameworks/R.framework/Resources/bin/R CMD INSTALL HDF5Array StartedAt: 2025-10-24 15:25:57 -0400 (Fri, 24 Oct 2025) EndedAt: 2025-10-24 15:26:29 -0400 (Fri, 24 Oct 2025) EllapsedTime: 32.4 seconds RetCode: 0 Status: OK