Package: HDF5Array Version: 1.37.0 Command: rm -rf HDF5Array.buildbin-libdir && mkdir HDF5Array.buildbin-libdir && /Users/biocbuild/BBS/utils/build-universal.sh HDF5Array_1.37.0.tar.gz /Library/Frameworks/R.framework/Resources/bin/R HDF5Array.buildbin-libdir StartedAt: 2025-10-25 01:44:13 -0400 (Sat, 25 Oct 2025) EndedAt: 2025-10-25 01:44:48 -0400 (Sat, 25 Oct 2025) EllapsedTime: 34.8 seconds RetCode: 0 Status: OK PackageFile: HDF5Array_1.37.0.tgz PackageFileSize: 8.584 MiB