Package: HDF5Array Version: 1.37.0 Command: /Library/Frameworks/R.framework/Resources/bin/R CMD build --keep-empty-dirs --no-resave-data HDF5Array StartedAt: 2025-10-26 16:47:59 -0400 (Sun, 26 Oct 2025) EndedAt: 2025-10-26 16:58:47 -0400 (Sun, 26 Oct 2025) EllapsedTime: 647.6 seconds RetCode: 1 Status: ERROR PackageFile: None PackageFileSize: NA