Package: Gviz Version: 1.53.1 Command: /home/biocbuild/bbs-3.22-bioc/R/bin/R CMD INSTALL Gviz StartedAt: 2025-10-24 15:57:18 -0400 (Fri, 24 Oct 2025) EndedAt: 2025-10-24 15:58:21 -0400 (Fri, 24 Oct 2025) EllapsedTime: 63.1 seconds RetCode: 0 Status: OK