Package: Gviz Version: 1.53.1 Command: /home/biocbuild/bbs-3.22-bioc/R/bin/R CMD build --keep-empty-dirs --no-resave-data --md5 Gviz StartedAt: 2025-10-24 18:11:10 -0400 (Fri, 24 Oct 2025) EndedAt: 2025-10-24 18:14:45 -0400 (Fri, 24 Oct 2025) EllapsedTime: 214.2 seconds RetCode: 0 Status: OK PackageFile: Gviz_1.53.1.tar.gz PackageFileSize: 7.322 MiB