Package: Gviz Version: 1.54.0 Command: /Library/Frameworks/R.framework/Resources/bin/R CMD INSTALL Gviz StartedAt: 2025-11-10 15:24:56 -0500 (Mon, 10 Nov 2025) EndedAt: 2025-11-10 15:25:22 -0500 (Mon, 10 Nov 2025) EllapsedTime: 26.2 seconds RetCode: 0 Status: OK