Package: Gviz Version: 1.54.0 Command: /Library/Frameworks/R.framework/Resources/bin/R CMD build --keep-empty-dirs --no-resave-data Gviz StartedAt: 2025-11-10 16:38:57 -0500 (Mon, 10 Nov 2025) EndedAt: 2025-11-10 16:40:17 -0500 (Mon, 10 Nov 2025) EllapsedTime: 79.8 seconds RetCode: 0 Status: OK PackageFile: Gviz_1.54.0.tar.gz PackageFileSize: 7.78 MiB