Package: GreyListChIP Version: 1.41.1 Command: /home/biocbuild/bbs-3.22-bioc/R/bin/R CMD INSTALL GreyListChIP StartedAt: 2025-10-24 15:38:34 -0400 (Fri, 24 Oct 2025) EndedAt: 2025-10-24 15:39:09 -0400 (Fri, 24 Oct 2025) EllapsedTime: 34.2 seconds RetCode: 0 Status: OK