Package: GreyListChIP Version: 1.41.1 Command: /home/biocbuild/bbs-3.22-bioc/R/bin/R CMD build --keep-empty-dirs --no-resave-data --md5 GreyListChIP StartedAt: 2025-10-24 18:08:36 -0400 (Fri, 24 Oct 2025) EndedAt: 2025-10-24 18:09:24 -0400 (Fri, 24 Oct 2025) EllapsedTime: 48.0 seconds RetCode: 0 Status: OK PackageFile: GreyListChIP_1.41.1.tar.gz PackageFileSize: 342.3 KiB