Package: GreyListChIP Version: 1.42.0 Maintainer: Matt Eldridge MaintainerEmail: matthew.eldridge at cruk.cam.ac.uk git_url: https://git.bioconductor.org/packages/GreyListChIP git_branch: RELEASE_3_22 git_last_commit: df5cbdf git_last_commit_date: 2025-10-29 10:23:48 -0400 (Wed, 29 Oct 2025)