Package: GraphAlignment Version: 1.73.0 Command: /home/biocbuild/R/R/bin/R CMD check --install=check:GraphAlignment.install-out.txt --library=/home/biocbuild/R/R/site-library --no-vignettes --timings GraphAlignment_1.73.0.tar.gz StartedAt: 2025-10-17 09:48:22 -0000 (Fri, 17 Oct 2025) EndedAt: 2025-10-17 09:48:55 -0000 (Fri, 17 Oct 2025) EllapsedTime: 33.0 seconds RetCode: 0 Status: OK CheckDir: GraphAlignment.Rcheck Warnings: 0