Package: GraphAlignment Version: 1.73.0 Command: /Library/Frameworks/R.framework/Resources/bin/R CMD check --install=check:GraphAlignment.install-out.txt --library=/Library/Frameworks/R.framework/Resources/library --no-vignettes --timings GraphAlignment_1.73.0.tar.gz StartedAt: 2025-10-24 21:40:07 -0400 (Fri, 24 Oct 2025) EndedAt: 2025-10-24 21:40:41 -0400 (Fri, 24 Oct 2025) EllapsedTime: 34.4 seconds RetCode: 0 Status: OK CheckDir: GraphAlignment.Rcheck Warnings: 0