Package: GraphAlignment Version: 1.73.0 Command: /Library/Frameworks/R.framework/Resources/bin/R CMD INSTALL GraphAlignment StartedAt: 2025-10-24 15:06:56 -0400 (Fri, 24 Oct 2025) EndedAt: 2025-10-24 15:07:06 -0400 (Fri, 24 Oct 2025) EllapsedTime: 10.0 seconds RetCode: 0 Status: OK