Package: GraphAlignment Version: 1.73.0 Command: /Library/Frameworks/R.framework/Resources/bin/R CMD build --keep-empty-dirs --no-resave-data GraphAlignment StartedAt: 2025-10-24 16:39:09 -0400 (Fri, 24 Oct 2025) EndedAt: 2025-10-24 16:39:14 -0400 (Fri, 24 Oct 2025) EllapsedTime: 5.1 seconds RetCode: 0 Status: OK PackageFile: GraphAlignment_1.73.0.tar.gz PackageFileSize: 591.9 KiB