Package: GraphAlignment Version: 1.73.0 Command: rm -rf GraphAlignment.buildbin-libdir && mkdir GraphAlignment.buildbin-libdir && /Users/biocbuild/BBS/utils/build-universal.sh GraphAlignment_1.73.0.tar.gz /Library/Frameworks/R.framework/Resources/bin/R GraphAlignment.buildbin-libdir StartedAt: 2025-10-24 23:05:21 -0400 (Fri, 24 Oct 2025) EndedAt: 2025-10-24 23:05:24 -0400 (Fri, 24 Oct 2025) EllapsedTime: 3.1 seconds RetCode: 0 Status: OK PackageFile: GraphAlignment_1.73.0.tgz PackageFileSize: 576.1 KiB