Package: GraphAT Version: 1.81.0 Command: /home/biocbuild/R/R/bin/R CMD INSTALL GraphAT StartedAt: 2025-10-23 20:31:22 -0000 (Thu, 23 Oct 2025) EndedAt: 2025-10-23 20:31:31 -0000 (Thu, 23 Oct 2025) EllapsedTime: 8.8 seconds RetCode: 0 Status: OK