Package: GraphAT Version: 1.81.0 Command: /home/biocbuild/bbs-3.22-bioc/R/bin/R CMD INSTALL GraphAT StartedAt: 2025-10-24 15:23:24 -0400 (Fri, 24 Oct 2025) EndedAt: 2025-10-24 15:23:31 -0400 (Fri, 24 Oct 2025) EllapsedTime: 7.2 seconds RetCode: 0 Status: OK