Package: GraphAT Version: 1.81.0 Command: /home/biocbuild/bbs-3.22-bioc/R/bin/R CMD build --keep-empty-dirs --no-resave-data --md5 GraphAT StartedAt: 2025-10-24 18:08:30 -0400 (Fri, 24 Oct 2025) EndedAt: 2025-10-24 18:08:32 -0400 (Fri, 24 Oct 2025) EllapsedTime: 2.0 seconds RetCode: 0 Status: OK PackageFile: GraphAT_1.81.0.tar.gz PackageFileSize: 1.885 MiB