Package: GraphAT Version: 1.81.0 Command: /Library/Frameworks/R.framework/Resources/bin/R CMD INSTALL GraphAT StartedAt: 2025-10-24 15:22:29 -0400 (Fri, 24 Oct 2025) EndedAt: 2025-10-24 15:22:46 -0400 (Fri, 24 Oct 2025) EllapsedTime: 16.9 seconds RetCode: 0 Status: OK