Package: GraphAT Version: 1.81.0 Command: /Library/Frameworks/R.framework/Resources/bin/R CMD build --keep-empty-dirs --no-resave-data GraphAT StartedAt: 2025-10-24 17:19:06 -0400 (Fri, 24 Oct 2025) EndedAt: 2025-10-24 17:19:08 -0400 (Fri, 24 Oct 2025) EllapsedTime: 2.3 seconds RetCode: 0 Status: OK PackageFile: GraphAT_1.81.0.tar.gz PackageFileSize: 1.884 MiB