Package: GrafGen Version: 1.5.0 Command: /home/biocbuild/bbs-3.22-bioc/R/bin/R CMD INSTALL GrafGen StartedAt: 2025-10-24 15:26:57 -0400 (Fri, 24 Oct 2025) EndedAt: 2025-10-24 15:27:20 -0400 (Fri, 24 Oct 2025) EllapsedTime: 23.4 seconds RetCode: 0 Status: OK