Package: GmicR Version: 1.24.0 Command: /Library/Frameworks/R.framework/Resources/bin/R CMD INSTALL GmicR StartedAt: 2025-11-10 15:23:12 -0500 (Mon, 10 Nov 2025) EndedAt: 2025-11-10 15:23:23 -0500 (Mon, 10 Nov 2025) EllapsedTime: 11.0 seconds RetCode: 0 Status: OK