Package: GloScope Version: 1.99.2 Command: /home/biocbuild/bbs-3.22-bioc/R/bin/R CMD INSTALL GloScope StartedAt: 2025-10-27 15:22:53 -0400 (Mon, 27 Oct 2025) EndedAt: 2025-10-27 15:23:19 -0400 (Mon, 27 Oct 2025) EllapsedTime: 25.4 seconds RetCode: 0 Status: OK