Package: Glimma Version: 2.19.2 Command: /home/biocbuild/bbs-3.22-bioc/R/bin/R CMD INSTALL Glimma StartedAt: 2025-10-27 15:24:37 -0400 (Mon, 27 Oct 2025) EndedAt: 2025-10-27 15:25:04 -0400 (Mon, 27 Oct 2025) EllapsedTime: 27.0 seconds RetCode: 0 Status: OK