Package: GladiaTOX Version: 1.25.3 Command: /home/biocbuild/bbs-3.22-bioc/R/bin/R CMD build --keep-empty-dirs --no-resave-data --md5 GladiaTOX StartedAt: 2025-10-24 18:02:20 -0400 (Fri, 24 Oct 2025) EndedAt: 2025-10-24 18:05:56 -0400 (Fri, 24 Oct 2025) EllapsedTime: 216.2 seconds RetCode: 0 Status: OK PackageFile: GladiaTOX_1.25.3.tar.gz PackageFileSize: 3.983 MiB