Package: GeomxTools Version: 3.13.1 Command: /home/biocbuild/R/R/bin/R CMD INSTALL GeomxTools StartedAt: 2025-10-23 20:35:12 -0000 (Thu, 23 Oct 2025) EndedAt: 2025-10-23 20:35:50 -0000 (Thu, 23 Oct 2025) EllapsedTime: 37.5 seconds RetCode: 0 Status: OK