Package: GeomxTools Version: 3.13.1 Command: /home/biocbuild/R/R/bin/R CMD build --keep-empty-dirs --no-resave-data GeomxTools StartedAt: 2025-10-21 00:03:37 -0000 (Tue, 21 Oct 2025) EndedAt: 2025-10-21 00:12:58 -0000 (Tue, 21 Oct 2025) EllapsedTime: 560.2 seconds RetCode: 0 Status: OK PackageFile: GeomxTools_3.13.1.tar.gz PackageFileSize: 14.26 MiB