Package: GeomxTools Version: 3.13.1 Command: /home/biocbuild/bbs-3.22-bioc/R/bin/R CMD check --install=check:GeomxTools.install-out.txt --library=/home/biocbuild/bbs-3.22-bioc/R/site-library --timings GeomxTools_3.13.1.tar.gz StartedAt: 2025-10-28 00:03:55 -0400 (Tue, 28 Oct 2025) EndedAt: 2025-10-28 00:28:59 -0400 (Tue, 28 Oct 2025) EllapsedTime: 1503.8 seconds RetCode: 0 Status: OK CheckDir: GeomxTools.Rcheck Warnings: 0