Package: GeomxTools Version: 3.13.1 Command: /Library/Frameworks/R.framework/Resources/bin/R CMD build --keep-empty-dirs --no-resave-data GeomxTools StartedAt: 2025-10-27 17:05:23 -0400 (Mon, 27 Oct 2025) EndedAt: 2025-10-27 17:14:05 -0400 (Mon, 27 Oct 2025) EllapsedTime: 522.2 seconds RetCode: 0 Status: OK PackageFile: GeomxTools_3.13.1.tar.gz PackageFileSize: 17.03 MiB